BEGIN:VCALENDAR
VERSION:2.0
PRODID:-//Impulso de una Nueva Vida  - ECPv6.15.16//NONSGML v1.0//EN
CALSCALE:GREGORIAN
METHOD:PUBLISH
X-WR-CALNAME:Impulso de una Nueva Vida 
X-ORIGINAL-URL:https://impulsodeunanuevavida.org
X-WR-CALDESC:Eventos para Impulso de una Nueva Vida 
REFRESH-INTERVAL;VALUE=DURATION:PT1H
X-Robots-Tag:noindex
X-PUBLISHED-TTL:PT1H
BEGIN:VTIMEZONE
TZID:America/Argentina/Buenos_Aires
BEGIN:STANDARD
TZOFFSETFROM:-0300
TZOFFSETTO:-0300
TZNAME:-03
DTSTART:20210101T000000
END:STANDARD
END:VTIMEZONE
BEGIN:VEVENT
DTSTART;TZID=America/Argentina/Buenos_Aires:20221008T150000
DTEND;TZID=America/Argentina/Buenos_Aires:20221008T170000
DTSTAMP:20260422T034623
CREATED:20220917T064010Z
LAST-MODIFIED:20220917T064150Z
UID:4757-1665241200-1665248400@impulsodeunanuevavida.org
SUMMARY:CONFERENCIA EN MENDOZA
DESCRIPTION:Daniel visita nuevamente Mendoza compartiendo su sabiduría y experiencias de vida en la conferencia Verdades Develadas desde la Conciencia. \nFECHA: SABADO 08/10 – 18 HS \nLUGAR: CENTRO DE CONGRESOS Y EXPOSICIONES \nDIRECCION: PELTIER 611 – MENDOZA \nENTRADA LIBRE Y GRATUITA
URL:https://impulsodeunanuevavida.org/event/conferencia-en-mendoza/
ATTACH;FMTTYPE=image/jpeg:https://impulsodeunanuevavida.org/wp-content/uploads/2022/09/aficha-A4-mdz2022-baja-scaled.jpg
END:VEVENT
END:VCALENDAR