BEGIN:VCALENDAR
VERSION:2.0
PRODID:-//Impulso de una Nueva Vida  - ECPv6.15.16//NONSGML v1.0//EN
CALSCALE:GREGORIAN
METHOD:PUBLISH
X-ORIGINAL-URL:https://impulsodeunanuevavida.org
X-WR-CALDESC:Eventos para Impulso de una Nueva Vida 
REFRESH-INTERVAL;VALUE=DURATION:PT1H
X-Robots-Tag:noindex
X-PUBLISHED-TTL:PT1H
BEGIN:VTIMEZONE
TZID:America/Argentina/Buenos_Aires
BEGIN:STANDARD
TZOFFSETFROM:-0300
TZOFFSETTO:-0300
TZNAME:-03
DTSTART:20210101T000000
END:STANDARD
END:VTIMEZONE
BEGIN:VEVENT
DTSTART;TZID=America/Argentina/Buenos_Aires:20221013T130000
DTEND;TZID=America/Argentina/Buenos_Aires:20221013T140000
DTSTAMP:20260422T035842
CREATED:20220926T044531Z
LAST-MODIFIED:20220926T044858Z
UID:4793-1665666000-1665669600@impulsodeunanuevavida.org
SUMMARY:EN DIALOGO CON MARK CALVET
DESCRIPTION:Fecha: JUEVES 28-07-22 \nPrograma: EN DIÁLOGO CON MARK CALVET \nConductor: MARK CALVET \nEmisión a través de: https://zolfm.com/streaming \nJUEVES 13/10 – horario a confiermar \n 
URL:https://impulsodeunanuevavida.org/event/en-dialogo-con-mark-calvet/
ATTACH;FMTTYPE=image/jpeg:https://impulsodeunanuevavida.org/wp-content/uploads/2022/09/mark-calvet.jpg
END:VEVENT
END:VCALENDAR