BEGIN:VCALENDAR
VERSION:2.0
PRODID:-//Impulso de una Nueva Vida  - ECPv6.15.16//NONSGML v1.0//EN
CALSCALE:GREGORIAN
METHOD:PUBLISH
X-ORIGINAL-URL:https://impulsodeunanuevavida.org
X-WR-CALDESC:Eventos para Impulso de una Nueva Vida 
REFRESH-INTERVAL;VALUE=DURATION:PT1H
X-Robots-Tag:noindex
X-PUBLISHED-TTL:PT1H
BEGIN:VTIMEZONE
TZID:America/Argentina/Buenos_Aires
BEGIN:STANDARD
TZOFFSETFROM:-0300
TZOFFSETTO:-0300
TZNAME:-03
DTSTART:20220101T000000
END:STANDARD
END:VTIMEZONE
BEGIN:VEVENT
DTSTART;TZID=America/Argentina/Buenos_Aires:20230512T210000
DTEND;TZID=America/Argentina/Buenos_Aires:20230512T220000
DTSTAMP:20260421T180051
CREATED:20230508T195852Z
LAST-MODIFIED:20230508T232846Z
UID:5302-1683925200-1683928800@impulsodeunanuevavida.org
SUMMARY:INSTAGRAM LIVE desde HOUSTON\, USA
DESCRIPTION:Un encuentro entre Amparo Trunik y Daniel a través de Instagram Live @coaching.mindinpower.  \nVIERNES 12/05 – 21 HS (ARG) – 7 PM (HOU\, USA) \n 
URL:https://impulsodeunanuevavida.org/event/vivo-de-instagram-desde-houston-usa/
END:VEVENT
END:VCALENDAR