BEGIN:VCALENDAR
VERSION:2.0
PRODID:-//Impulso de una Nueva Vida  - ECPv6.15.16//NONSGML v1.0//EN
CALSCALE:GREGORIAN
METHOD:PUBLISH
X-ORIGINAL-URL:https://impulsodeunanuevavida.org
X-WR-CALDESC:Eventos para Impulso de una Nueva Vida 
REFRESH-INTERVAL;VALUE=DURATION:PT1H
X-Robots-Tag:noindex
X-PUBLISHED-TTL:PT1H
BEGIN:VTIMEZONE
TZID:America/Argentina/Buenos_Aires
BEGIN:STANDARD
TZOFFSETFROM:-0300
TZOFFSETTO:-0300
TZNAME:-03
DTSTART:20220101T000000
END:STANDARD
END:VTIMEZONE
BEGIN:VEVENT
DTSTART;TZID=America/Argentina/Buenos_Aires:20230603T163000
DTEND;TZID=America/Argentina/Buenos_Aires:20230603T183000
DTSTAMP:20260421T162702
CREATED:20230423T000934Z
LAST-MODIFIED:20230508T194122Z
UID:5256-1685809800-1685817000@impulsodeunanuevavida.org
SUMMARY:CONFERENCIA PRESENCIAL EN LA PLATA
DESCRIPTION:Conferencia Verdades Develadas desde la Conciencia con entrada \nLIBRE y GRATUITA. \nSABADO 03/06 – 16:30 HS \nLA PLATA\, BUENOS AIRES \nEN PEÑA DE LAS BELLAS ARTES – Calle 49 879 \nLa conferencia no tiene un tema preestablecido\, sino que es un espacio abierto para que el público le realice preguntas a Daniel. De esta forma se van creando diferentes temáticas. \nEl mensaje de Daniel no sigue ningún lineamiento religioso ni ideológico.  Está en relación a una espiritualidad práctica aplicable a la vida cotidiana\,  enfocado en el crecimiento individual que nos lleva a vivir una vida más consciente. Teniendo como pilar fundamental el entender que se puede vivir mejor si ponemos amor en todo lo que hacemos. Mensaje hoy mas que nunca necesario\, en tiempos en donde nos surge el impulso de buscar respuestas dentro de este medio hostil en el que vivimos. \nA lo largo de todos estos años Daniel ha desarrollado en sus conferencias temas como las crisis que llevan adelante la humanidad\, como lograr la paz interna a pesar de la hostilidad que se vive a diario\, como calmar la mente \, el perdón\, la conciencia\, la muerte\, los egos\, las virtudes\, entre otros. \nPara mas información escribinos a contacto@impulsodeunanuevavida.org
URL:https://impulsodeunanuevavida.org/event/conferencia-presencial-en-la-plata/
ATTACH;FMTTYPE=image/jpeg:https://impulsodeunanuevavida.org/wp-content/uploads/2023/04/3.jpg
END:VEVENT
END:VCALENDAR