BEGIN:VCALENDAR
VERSION:2.0
PRODID:-//Impulso de una Nueva Vida  - ECPv6.15.16//NONSGML v1.0//EN
CALSCALE:GREGORIAN
METHOD:PUBLISH
X-ORIGINAL-URL:https://impulsodeunanuevavida.org
X-WR-CALDESC:Eventos para Impulso de una Nueva Vida 
REFRESH-INTERVAL;VALUE=DURATION:PT1H
X-Robots-Tag:noindex
X-PUBLISHED-TTL:PT1H
BEGIN:VTIMEZONE
TZID:America/Argentina/Buenos_Aires
BEGIN:STANDARD
TZOFFSETFROM:-0300
TZOFFSETTO:-0300
TZNAME:-03
DTSTART:20220101T000000
END:STANDARD
END:VTIMEZONE
BEGIN:VEVENT
DTSTART;TZID=America/Argentina/Buenos_Aires:20230617T120000
DTEND;TZID=America/Argentina/Buenos_Aires:20230617T130000
DTSTAMP:20260421T163315
CREATED:20230607T223908Z
LAST-MODIFIED:20230611T164812Z
UID:5422-1687003200-1687006800@impulsodeunanuevavida.org
SUMMARY:ENTREVISTA RADIO LIMON- Capilla Del Monte
DESCRIPTION:ENTREVISTA EN RADIO LIMON DE CAPILLA DEL MONTE. \nPROGRAMA: TERCER OJO \nCONDUCTOR: FABIAN CEBALLOS \nLO PUEDE VER POR WWW.RADIOLIMON903.COM \nSABADO 17/06 – 12 HS DEL MEDIODIA (ARG) \n 
URL:https://impulsodeunanuevavida.org/event/entrevista-radio-limon/
ATTACH;FMTTYPE=image/jpeg:https://impulsodeunanuevavida.org/wp-content/uploads/2023/06/radio-limon.jpg
END:VEVENT
END:VCALENDAR