BEGIN:VCALENDAR
VERSION:2.0
PRODID:-//Impulso de una Nueva Vida  - ECPv6.15.16//NONSGML v1.0//EN
CALSCALE:GREGORIAN
METHOD:PUBLISH
X-WR-CALNAME:Impulso de una Nueva Vida 
X-ORIGINAL-URL:https://impulsodeunanuevavida.org
X-WR-CALDESC:Eventos para Impulso de una Nueva Vida 
REFRESH-INTERVAL;VALUE=DURATION:PT1H
X-Robots-Tag:noindex
X-PUBLISHED-TTL:PT1H
BEGIN:VTIMEZONE
TZID:America/Argentina/Buenos_Aires
BEGIN:STANDARD
TZOFFSETFROM:-0300
TZOFFSETTO:-0300
TZNAME:-03
DTSTART:20220101T000000
END:STANDARD
END:VTIMEZONE
BEGIN:VEVENT
DTSTART;TZID=America/Argentina/Buenos_Aires:20230824T160000
DTEND;TZID=America/Argentina/Buenos_Aires:20230824T170000
DTSTAMP:20260421T174125
CREATED:20230330T135540Z
LAST-MODIFIED:20230812T205109Z
UID:5198-1692892800-1692896400@impulsodeunanuevavida.org
SUMMARY:INSTAGRAM LIVE desde España
DESCRIPTION:Daniel conversa en vivo con Eva de la Hidalga  desde España \nJUEVES 24/08/23 – 16:hs (Arg) – 21 hs (Esp) \nA través de : @blue_chrysalis_8
URL:https://impulsodeunanuevavida.org/event/en-vivo-con-eva-de-la-hidalga-desde-espana/
ATTACH;FMTTYPE=image/jpeg:https://impulsodeunanuevavida.org/wp-content/uploads/2023/03/25.jpg
END:VEVENT
END:VCALENDAR