BEGIN:VCALENDAR
VERSION:2.0
PRODID:-//Impulso de una Nueva Vida  - ECPv6.15.16//NONSGML v1.0//EN
CALSCALE:GREGORIAN
METHOD:PUBLISH
X-WR-CALNAME:Impulso de una Nueva Vida 
X-ORIGINAL-URL:https://impulsodeunanuevavida.org
X-WR-CALDESC:Eventos para Impulso de una Nueva Vida 
REFRESH-INTERVAL;VALUE=DURATION:PT1H
X-Robots-Tag:noindex
X-PUBLISHED-TTL:PT1H
BEGIN:VTIMEZONE
TZID:America/Argentina/Buenos_Aires
BEGIN:STANDARD
TZOFFSETFROM:-0300
TZOFFSETTO:-0300
TZNAME:-03
DTSTART:20220101T000000
END:STANDARD
END:VTIMEZONE
BEGIN:VEVENT
DTSTART;TZID=America/Argentina/Buenos_Aires:20231110T200000
DTEND;TZID=America/Argentina/Buenos_Aires:20231110T200000
DTSTAMP:20260421T085433
CREATED:20231004T190232Z
LAST-MODIFIED:20231103T124047Z
UID:5693-1699646400-1699646400@impulsodeunanuevavida.org
SUMMARY:INSTAGRAM LIVE CON ANDRE BE
DESCRIPTION:Conversando con Andre Be a través de su instagram @sentir_es_es_secreto. \nVIERNES 10/11- 20 HS  (ARG) \n 
URL:https://impulsodeunanuevavida.org/event/instagram-live-con-andre-be/
END:VEVENT
END:VCALENDAR