BEGIN:VCALENDAR
VERSION:2.0
PRODID:-//Impulso de una Nueva Vida  - ECPv6.15.16//NONSGML v1.0//EN
CALSCALE:GREGORIAN
METHOD:PUBLISH
X-ORIGINAL-URL:https://impulsodeunanuevavida.org
X-WR-CALDESC:Eventos para Impulso de una Nueva Vida 
REFRESH-INTERVAL;VALUE=DURATION:PT1H
X-Robots-Tag:noindex
X-PUBLISHED-TTL:PT1H
BEGIN:VTIMEZONE
TZID:America/Argentina/Buenos_Aires
BEGIN:STANDARD
TZOFFSETFROM:-0300
TZOFFSETTO:-0300
TZNAME:-03
DTSTART:20220101T000000
END:STANDARD
END:VTIMEZONE
BEGIN:VEVENT
DTSTART;TZID=America/Argentina/Buenos_Aires:20231128T210000
DTEND;TZID=America/Argentina/Buenos_Aires:20231128T210000
DTSTAMP:20260421T085720
CREATED:20231103T124607Z
LAST-MODIFIED:20231103T124856Z
UID:5720-1701205200-1701205200@impulsodeunanuevavida.org
SUMMARY:Instagram LIVE con Johana Pulido desde Colombia
DESCRIPTION:Un encuentro entre Johana Pulido Morales y Daniel a través de Instagram Live @johana_pulidom \nJUEVES 28/11  21 HS (ARG) – 7 PM  (COL)
URL:https://impulsodeunanuevavida.org/event/instagram-live-con-johana-pulido-desde-colombia/
END:VEVENT
END:VCALENDAR