BEGIN:VCALENDAR
VERSION:2.0
PRODID:-//Impulso de una Nueva Vida  - ECPv6.15.16//NONSGML v1.0//EN
CALSCALE:GREGORIAN
METHOD:PUBLISH
X-ORIGINAL-URL:https://impulsodeunanuevavida.org
X-WR-CALDESC:Eventos para Impulso de una Nueva Vida 
REFRESH-INTERVAL;VALUE=DURATION:PT1H
X-Robots-Tag:noindex
X-PUBLISHED-TTL:PT1H
BEGIN:VTIMEZONE
TZID:America/Argentina/Buenos_Aires
BEGIN:STANDARD
TZOFFSETFROM:-0300
TZOFFSETTO:-0300
TZNAME:-03
DTSTART:20210101T000000
END:STANDARD
END:VTIMEZONE
BEGIN:VEVENT
DTSTART;TZID=America/Argentina/Buenos_Aires:20220901T120000
DTEND;TZID=America/Argentina/Buenos_Aires:20220901T140000
DTSTAMP:20260422T190509
CREATED:20220612T010125Z
LAST-MODIFIED:20230612T130713Z
UID:5442-1662033600-1662040800@impulsodeunanuevavida.org
SUMMARY:FACEBOOK LIVE DESDE COLOMBIA
DESCRIPTION:Un nuevo encuentro de Daniel con Andres Agudelo de Fundación Mi Colmena. \nLUNES 26/06  12 HS (ARG) – 10 HS (COL) \nPodes verlo por la fanpage de Facebook de fun.micolmena \n  \n 
URL:https://impulsodeunanuevavida.org/event/facebook-live-desde-colombia-2/
END:VEVENT
BEGIN:VEVENT
DTSTART;TZID=America/Argentina/Buenos_Aires:20220901T160000
DTEND;TZID=America/Argentina/Buenos_Aires:20220901T160000
DTSTAMP:20260422T190509
CREATED:20220816T041004Z
LAST-MODIFIED:20220816T154338Z
UID:4713-1662048000-1662048000@impulsodeunanuevavida.org
SUMMARY:CLAVES PARA EL DESPERTAR
DESCRIPTION:Tema del encuentro: CLAVES PARA EL DESPERTAR \nConductor: Marcelo Cosentino \nEmisión a través de: Instagram  @marceloscosentino \nJUEVES 1/09 – 19:00 HS (ARG)
URL:https://impulsodeunanuevavida.org/event/4713/
ATTACH;FMTTYPE=image/jpeg:https://impulsodeunanuevavida.org/wp-content/uploads/2022/08/MARCELO-COSENTINO.jpg
END:VEVENT
BEGIN:VEVENT
DTSTART;TZID=America/Argentina/Buenos_Aires:20220904T140000
DTEND;TZID=America/Argentina/Buenos_Aires:20220904T163000
DTSTAMP:20260422T190509
CREATED:20220816T155149Z
LAST-MODIFIED:20220816T155452Z
UID:4718-1662300000-1662309000@impulsodeunanuevavida.org
SUMMARY:El Poder de tu Luz
DESCRIPTION:Daniel estará como invitado especial luego del cierre del evento\, realizando la clásica conferencia ¨Verdades Develadas desde la Conciencia¨ de preguntas y respuestas. \nLugar: Teatro del Viejo Consejo de San Isidro \nDirección: 9 de Julio 512 – San Isidro\, Bs As \nFecha: Domingo 04/09 – 17 hs \nEntrada: Libre y Gratuita \n 
URL:https://impulsodeunanuevavida.org/event/el-poder-de-tu-luz/
END:VEVENT
BEGIN:VEVENT
DTSTART;TZID=America/Argentina/Buenos_Aires:20220919T170000
DTEND;TZID=America/Argentina/Buenos_Aires:20220919T180000
DTSTAMP:20260422T190509
CREATED:20220905T024243Z
LAST-MODIFIED:20220905T024243Z
UID:4736-1663606800-1663610400@impulsodeunanuevavida.org
SUMMARY:Mi Colmena- Colombia
DESCRIPTION:Programa: SANA MENTE \nConductor: Eliana Ortiz – Andrés Agudelo Zárate \nEmisión a través de: Facebook @funmicolmena \nlUNES 19/09 – 20:00 HS (ARG) – 18:00 HS. (Col)
URL:https://impulsodeunanuevavida.org/event/mi-colmena-colombia-2/
ATTACH;FMTTYPE=image/jpeg:https://impulsodeunanuevavida.org/wp-content/uploads/2022/03/PORTADAS-YT-2022-VIVOS-2.jpg
END:VEVENT
BEGIN:VEVENT
DTSTART;TZID=America/Argentina/Buenos_Aires:20221002T050000
DTEND;TZID=America/Argentina/Buenos_Aires:20221002T060000
DTSTAMP:20260422T190509
CREATED:20220926T043717Z
LAST-MODIFIED:20220927T005756Z
UID:4788-1664686800-1664690400@impulsodeunanuevavida.org
SUMMARY:Al Otro Lado -ZOL FM - Republica Dominicana
DESCRIPTION:Tema del encuentro: ESPIRITUALIDAD PRÁCTICA \nPrograma: ¨Al otro Lado¨ \nConductor: María Cristina Pagan \nEmisión a través de: https://zolfm.com/streaming \nDOMINGO 02/10 – 11:00 HS (ARG) – 10:00 HS (Rep. Do.)
URL:https://impulsodeunanuevavida.org/event/al-otro-lado-zol-fm-republica-dominicana/
ATTACH;FMTTYPE=image/jpeg:https://impulsodeunanuevavida.org/wp-content/uploads/2022/09/zol-fm-Al-otro-Lado-1.jpg
END:VEVENT
BEGIN:VEVENT
DTSTART;TZID=America/Argentina/Buenos_Aires:20221006T070000
DTEND;TZID=America/Argentina/Buenos_Aires:20221006T080000
DTSTAMP:20260422T190509
CREATED:20221001T234937Z
LAST-MODIFIED:20221002T020015Z
UID:4799-1665039600-1665043200@impulsodeunanuevavida.org
SUMMARY:Programa Cada Día - Canal 9 Mendoza
DESCRIPTION:Daniel estará en el programa CADA DIA del Canal 9 -Televida – de Mendoza. Conducido por Coco Gras y Majo Pérez Comalini. \nFECHA: JUEVES 06/10 – a partir de las 10 hs \nPROGRAMA : CADA DIA \nMEDIO: EN VIVO POR CANAL 9 DE MENDOZA Y POR LA WEB https://www.elnueve.com/ \n  \n 
URL:https://impulsodeunanuevavida.org/event/programa-cada-dia-canal-9-mendoza/
END:VEVENT
BEGIN:VEVENT
DTSTART;TZID=America/Argentina/Buenos_Aires:20221008T150000
DTEND;TZID=America/Argentina/Buenos_Aires:20221008T170000
DTSTAMP:20260422T190509
CREATED:20220917T064010Z
LAST-MODIFIED:20220917T064150Z
UID:4757-1665241200-1665248400@impulsodeunanuevavida.org
SUMMARY:CONFERENCIA EN MENDOZA
DESCRIPTION:Daniel visita nuevamente Mendoza compartiendo su sabiduría y experiencias de vida en la conferencia Verdades Develadas desde la Conciencia. \nFECHA: SABADO 08/10 – 18 HS \nLUGAR: CENTRO DE CONGRESOS Y EXPOSICIONES \nDIRECCION: PELTIER 611 – MENDOZA \nENTRADA LIBRE Y GRATUITA
URL:https://impulsodeunanuevavida.org/event/conferencia-en-mendoza/
ATTACH;FMTTYPE=image/jpeg:https://impulsodeunanuevavida.org/wp-content/uploads/2022/09/aficha-A4-mdz2022-baja-scaled.jpg
END:VEVENT
BEGIN:VEVENT
DTSTART;TZID=America/Argentina/Buenos_Aires:20221013T130000
DTEND;TZID=America/Argentina/Buenos_Aires:20221013T140000
DTSTAMP:20260422T190509
CREATED:20220926T044531Z
LAST-MODIFIED:20220926T044858Z
UID:4793-1665666000-1665669600@impulsodeunanuevavida.org
SUMMARY:EN DIALOGO CON MARK CALVET
DESCRIPTION:Fecha: JUEVES 28-07-22 \nPrograma: EN DIÁLOGO CON MARK CALVET \nConductor: MARK CALVET \nEmisión a través de: https://zolfm.com/streaming \nJUEVES 13/10 – horario a confiermar \n 
URL:https://impulsodeunanuevavida.org/event/en-dialogo-con-mark-calvet/
ATTACH;FMTTYPE=image/jpeg:https://impulsodeunanuevavida.org/wp-content/uploads/2022/09/mark-calvet.jpg
END:VEVENT
BEGIN:VEVENT
DTSTART;TZID=America/Argentina/Buenos_Aires:20221106T203000
DTEND;TZID=America/Argentina/Buenos_Aires:20221106T205900
DTSTAMP:20260422T190509
CREATED:20220728T175059Z
LAST-MODIFIED:20221104T224950Z
UID:4708-1667766600-1667768340@impulsodeunanuevavida.org
SUMMARY:Insólita Experiencia Yohanan Díaz
DESCRIPTION:DOMINGO  06/11 – 23:30 Hs (ARG) 20:30 Hs (MEX) \nPrograma: Insólita Experiencia \nCondutor: Yohanan Dias Vargas \nTransmisión por: https://www.youtube.com/c/YohananDíazVargasYohananDiazOficial
URL:https://impulsodeunanuevavida.org/event/insolita-experiencia-yohanan-dias/
END:VEVENT
BEGIN:VEVENT
DTSTART;TZID=America/Argentina/Buenos_Aires:20221119T150000
DTEND;TZID=America/Argentina/Buenos_Aires:20221119T170000
DTSTAMP:20260422T190509
CREATED:20221028T012432Z
LAST-MODIFIED:20221104T031458Z
UID:4881-1668870000-1668877200@impulsodeunanuevavida.org
SUMMARY:CONFERENCIA PRESENCIAL Bs As
DESCRIPTION:SABADO 19 DE NOVIEMBRE DE 2022 – 18 HS. \nLugar: Com. Siete Palmeras – San Lorenzo 2240 -Olivos\, Bs As \nEntrada Gratuita \nAforo limitado  Inscripción en  contacto@impulsodeunanuevavida.org \nLos esperamos !!!
URL:https://impulsodeunanuevavida.org/event/conferencia-presencial/
LOCATION:Comunidad Siete Palmeras\, San Lorenzo 2044\, Olivos\, Buenos Aires\, Argentina
ATTACH;FMTTYPE=image/jpeg:https://impulsodeunanuevavida.org/wp-content/uploads/2022/10/2-1.jpg
END:VEVENT
BEGIN:VEVENT
DTSTART;TZID=America/Argentina/Buenos_Aires:20221122T150000
DTEND;TZID=America/Argentina/Buenos_Aires:20221122T170000
DTSTAMP:20260422T190509
CREATED:20221121T235754Z
LAST-MODIFIED:20221121T235754Z
UID:4941-1669129200-1669136400@impulsodeunanuevavida.org
SUMMARY:Entrevista en RADIO FENIX FM 100.3
DESCRIPTION:Aprendamos Juntos cede su espacio para la transmisión de la entrevista de la mano de Maria Isabel Villafañe en el programa ¨En Conexión¨ por Radio Fenix\, FM 100.3 https://www.fmfenix.com.ar/ \n  \n 
URL:https://impulsodeunanuevavida.org/event/entrevista-en-radio-fenix-fm-100-3/
END:VEVENT
BEGIN:VEVENT
DTSTART;TZID=America/Argentina/Buenos_Aires:20221212T130000
DTEND;TZID=America/Argentina/Buenos_Aires:20221212T150000
DTSTAMP:20260422T190509
CREATED:20221208T161724Z
LAST-MODIFIED:20221208T161724Z
UID:4957-1670850000-1670857200@impulsodeunanuevavida.org
SUMMARY:ENTREVISTA CON MARISA ANDINO - RADIO
DESCRIPTION:  \nMarisa Andino y Marcelo Velcoff reciben a Daniel en su programa radial GPS RECALCULANDO de radio MxMAS – radio digital \nFECHA: LUNES 12 DE DICIEMBRE – A PARTIR DE LAS 16 HS (ARG) \nLO PODES ESCUCHAR POR: https://radiomxmas.com.ar/ \n  \n  \n 
URL:https://impulsodeunanuevavida.org/event/entrevista-con-marisa-andino-radio/
ATTACH;FMTTYPE=image/jpeg:https://impulsodeunanuevavida.org/wp-content/uploads/2022/12/3.jpg
END:VEVENT
BEGIN:VEVENT
DTSTART;TZID=America/Argentina/Buenos_Aires:20221215T160000
DTEND;TZID=America/Argentina/Buenos_Aires:20221215T170000
DTSTAMP:20260422T190509
CREATED:20221208T162014Z
LAST-MODIFIED:20221208T162342Z
UID:4961-1671120000-1671123600@impulsodeunanuevavida.org
SUMMARY:EN VIVO CON MARISA ANDINO - INSTAGRAM
DESCRIPTION:En esta oportunidad Marisa Andino conversa en VIVO con Daniel desde su instagram. \nFECHA: JUEVES 15 DE DICIEMBRE – 19 HS (ARG)
URL:https://impulsodeunanuevavida.org/event/en-vivo-con-marisa-andino-instagram/
END:VEVENT
BEGIN:VEVENT
DTSTART;TZID=America/Argentina/Buenos_Aires:20230103T150000
DTEND;TZID=America/Argentina/Buenos_Aires:20230103T150000
DTSTAMP:20260422T190509
CREATED:20221225T193423Z
LAST-MODIFIED:20221225T193423Z
UID:4988-1672758000-1672758000@impulsodeunanuevavida.org
SUMMARY:EN VIVO con @transicion.al.ser desde ESPAÑA
DESCRIPTION:Daniel en diálogo con Felipe \nFECHA: MARTES 03/01 -18HS (ARG) 22HS (ESP) \nA TRAVÉS DE:  INSTAGRAM @transicion.al.ser
URL:https://impulsodeunanuevavida.org/event/en-vivo-con-transicion-al-ser-desde-espana/
END:VEVENT
BEGIN:VEVENT
DTSTART;TZID=America/Argentina/Buenos_Aires:20230110T170000
DTEND;TZID=America/Argentina/Buenos_Aires:20230110T180000
DTSTAMP:20260422T190509
CREATED:20230108T143403Z
LAST-MODIFIED:20230108T143403Z
UID:4994-1673370000-1673373600@impulsodeunanuevavida.org
SUMMARY:INSTAGRAM LIVE CON MUJERES HOOPONOPONO
DESCRIPTION:Conversando con Carolina de @mujeres.hooponoponoargentina. \nMARTES 10/01 a las 8 PM (arg) por INSTAGRAM LIVE. \n 
URL:https://impulsodeunanuevavida.org/event/instagram-live-con-mujeres-hooponopono/
END:VEVENT
BEGIN:VEVENT
DTSTART;TZID=America/Argentina/Buenos_Aires:20230127T140000
DTEND;TZID=America/Argentina/Buenos_Aires:20230127T150000
DTSTAMP:20260422T190509
CREATED:20230119T002025Z
LAST-MODIFIED:20230119T002025Z
UID:5016-1674828000-1674831600@impulsodeunanuevavida.org
SUMMARY:INSTAGRAM LIVE DESDE ESPAÑA
DESCRIPTION:En este encuentro Daniel conversará con Mara Galetta sobre la ¨Osadia en la Vida¨ a través de Instagram Live @maragaletta_consciente \nVIERNES 27/01  – 5 PM (ARG) – 9 PM (ESP) \n  \n 
URL:https://impulsodeunanuevavida.org/event/instagram-live-desde-espana/
END:VEVENT
BEGIN:VEVENT
DTSTART;TZID=America/Argentina/Buenos_Aires:20230314T170000
DTEND;TZID=America/Argentina/Buenos_Aires:20230314T180000
DTSTAMP:20260422T190509
CREATED:20230308T202630Z
LAST-MODIFIED:20230308T202630Z
UID:5081-1678813200-1678816800@impulsodeunanuevavida.org
SUMMARY:VIVO DE INSTAGRAM DESDE ESPAÑA
DESCRIPTION:Un segundo encuentro de Daniel con Mara Galetta (España) y Federico Steppes (La Plata\, Bs As) a través de Instagram Live. \nMARTES 14/03 – 17 hs (ARG) – 21 hs (ESP) \nPOR INSTAGRAM. @maragaletta_consciente y @federicosteppes
URL:https://impulsodeunanuevavida.org/event/vivo-de-instagram-desde-espana/
END:VEVENT
BEGIN:VEVENT
DTSTART;TZID=America/Argentina/Buenos_Aires:20230408T190000
DTEND;TZID=America/Argentina/Buenos_Aires:20230408T190000
DTSTAMP:20260422T190509
CREATED:20230330T160602Z
LAST-MODIFIED:20230406T003924Z
UID:5207-1680980400-1680980400@impulsodeunanuevavida.org
SUMMARY:ENTREVISTA EN RADIO LA PORTEÑA
DESCRIPTION:En diálogo con  Ciro Roman en el programa ¨Un toque al Corazón¨ a través de www.laporteñaradio.com.ar 
URL:https://impulsodeunanuevavida.org/event/la-portena-radio/
ATTACH;FMTTYPE=image/jpeg:https://impulsodeunanuevavida.org/wp-content/uploads/2023/03/Portadas-vivos-youtube-2023-10.jpg
END:VEVENT
BEGIN:VEVENT
DTSTART;TZID=America/Argentina/Buenos_Aires:20230411T200000
DTEND;TZID=America/Argentina/Buenos_Aires:20230411T210000
DTSTAMP:20260422T190509
CREATED:20230330T131843Z
LAST-MODIFIED:20230406T004158Z
UID:5194-1681243200-1681246800@impulsodeunanuevavida.org
SUMMARY:INSTAGRAM LIVE  Rita Alvarez Pico
DESCRIPTION:Daniel conversa en vivo con Rita Alvarez Pico \nDia: 10/04/23 – 19 hs \nA través de : @sanarelalmaradio
URL:https://impulsodeunanuevavida.org/event/en-vivo-rita-alvarez-pico/
END:VEVENT
BEGIN:VEVENT
DTSTART;TZID=America/Argentina/Buenos_Aires:20230416T170000
DTEND;TZID=America/Argentina/Buenos_Aires:20230416T190000
DTSTAMP:20260422T190509
CREATED:20230327T000153Z
LAST-MODIFIED:20230327T000153Z
UID:5160-1681664400-1681671600@impulsodeunanuevavida.org
SUMMARY:CONFERENCIA EN CABA
DESCRIPTION:Conferencia presencial Verdades Develadas desde la Conciencia \, en la Ciudad de Buenos Aires. \nDOMINGO 16/04 – 17 HS \nFUNDACION COLUMBIA – J.L.BORGES 2020 \nENTRADA LIBRE Y GRATUITA
URL:https://impulsodeunanuevavida.org/event/conferencia-en-caba/
ATTACH;FMTTYPE=image/jpeg:https://impulsodeunanuevavida.org/wp-content/uploads/2023/03/conferencias-presencial-Miniatura-para-YouTube.jpg
END:VEVENT
BEGIN:VEVENT
DTSTART;TZID=America/Argentina/Buenos_Aires:20230420T220000
DTEND;TZID=America/Argentina/Buenos_Aires:20230420T220000
DTSTAMP:20260422T190510
CREATED:20230330T134140Z
LAST-MODIFIED:20230401T222701Z
UID:5196-1682028000-1682028000@impulsodeunanuevavida.org
SUMMARY:INSTAGRAM LIVE desde Colombia con Zully Roman 
DESCRIPTION:Daniel conversa en vivo con Zully Roman  desde Colombia \nDia: 20/04/23 – 22 hs hs (arg) – 8 pm (col) \nA través de : @zulyroman.s
URL:https://impulsodeunanuevavida.org/event/en-vivo-con-zully-roman-desde-colombia/
END:VEVENT
BEGIN:VEVENT
DTSTART;TZID=America/Argentina/Buenos_Aires:20230428T103000
DTEND;TZID=America/Argentina/Buenos_Aires:20230428T110000
DTSTAMP:20260422T190510
CREATED:20230308T203249Z
LAST-MODIFIED:20230401T221929Z
UID:5084-1682677800-1682679600@impulsodeunanuevavida.org
SUMMARY:MANTRA FM 91.9 MHz. en diálogo con Marisa Ventura
DESCRIPTION:Daniel en dialogo con Marisa Ventura  sobre cómo evolucionar espiritualmente \nVIERNES 28/04- 10:30 HS (ARG) \nLo podes ver en https://mantrafm.com.ar/ \n 
URL:https://impulsodeunanuevavida.org/event/entrevista-en-radio-simphony-91-3-fm/
ATTACH;FMTTYPE=image/jpeg:https://impulsodeunanuevavida.org/wp-content/uploads/2023/03/20.jpg
END:VEVENT
BEGIN:VEVENT
DTSTART;TZID=America/Argentina/Buenos_Aires:20230506T160000
DTEND;TZID=America/Argentina/Buenos_Aires:20230506T180000
DTSTAMP:20260422T190510
CREATED:20230423T000623Z
LAST-MODIFIED:20230423T000623Z
UID:5253-1683388800-1683396000@impulsodeunanuevavida.org
SUMMARY:CONFERENCIA PRESENCIAL EN SALTA
DESCRIPTION:Conferencia Verdades Develadas desde la Conciencia con entrada \nLIBRE y GRATUITA. \nSABADO 06/05 – 16 HS \nVILLA SAN LORENZO\, SALTA \nEN EL HOTEL LA CARONA – Esteban Echeverria 101 \nMas información en contacto@impulsodeunanuevavida.org
URL:https://impulsodeunanuevavida.org/event/conferencia-presencial-en-salta/
ATTACH;FMTTYPE=image/jpeg:https://impulsodeunanuevavida.org/wp-content/uploads/2023/04/2.jpg
END:VEVENT
BEGIN:VEVENT
DTSTART;TZID=America/Argentina/Buenos_Aires:20230512T210000
DTEND;TZID=America/Argentina/Buenos_Aires:20230512T220000
DTSTAMP:20260422T190510
CREATED:20230508T195852Z
LAST-MODIFIED:20230508T232846Z
UID:5302-1683925200-1683928800@impulsodeunanuevavida.org
SUMMARY:INSTAGRAM LIVE desde HOUSTON\, USA
DESCRIPTION:Un encuentro entre Amparo Trunik y Daniel a través de Instagram Live @coaching.mindinpower.  \nVIERNES 12/05 – 21 HS (ARG) – 7 PM (HOU\, USA) \n 
URL:https://impulsodeunanuevavida.org/event/vivo-de-instagram-desde-houston-usa/
END:VEVENT
BEGIN:VEVENT
DTSTART;TZID=America/Argentina/Buenos_Aires:20230521T080000
DTEND;TZID=America/Argentina/Buenos_Aires:20230521T170000
DTSTAMP:20260422T190510
CREATED:20230521T214209Z
LAST-MODIFIED:20230521T214209Z
UID:5388-1684656000-1684688400@impulsodeunanuevavida.org
SUMMARY:APRENDAMOS JUNTOS 2023
DESCRIPTION:Un nuevo ciclo de APRENDAMOS JUNTOS comienza. Con un nuevo formato y nuevo dia! \nTODOS LOS MIERCOLES A LAS 19:30 HS A TRAVES DE NUESTRO CANAL DE YOUTUBE IMPULSO DE UNA NUEVA VIDA Y NUESTRA FANPAGE DE FACEBOOK  \nCOMIENZO: 15/03 – 19:30 HS \nLOS ESPERAMOS !!!
URL:https://impulsodeunanuevavida.org/event/aprendamos-juntos-2023-6/
ATTACH;FMTTYPE=image/jpeg:https://impulsodeunanuevavida.org/wp-content/uploads/2023/03/Aprendamos-Juntos-Miniatura-para-YouTube-1.jpg
END:VEVENT
BEGIN:VEVENT
DTSTART;TZID=America/Argentina/Buenos_Aires:20230524T193000
DTEND;TZID=America/Argentina/Buenos_Aires:20230524T210000
DTSTAMP:20260422T190510
CREATED:20230401T225305Z
LAST-MODIFIED:20230508T233002Z
UID:5235-1684956600-1684962000@impulsodeunanuevavida.org
SUMMARY:APRENDAMOS JUNTOS 2023
DESCRIPTION:Un nuevo ciclo de APRENDAMOS JUNTOS comienza. Con un nuevo formato y nuevo dia! \nTODOS LOS MIERCOLES A LAS 19:30 HS A TRAVES DE NUESTRO CANAL DE YOUTUBE IMPULSO DE UNA NUEVA VIDA Y NUESTRA FANPAGE DE FACEBOOK  \nCOMIENZO: 15/03 – 19:30 HS \nLOS ESPERAMOS !!!
URL:https://impulsodeunanuevavida.org/event/aprendamos-juntos-2023-2/
ATTACH;FMTTYPE=image/jpeg:https://impulsodeunanuevavida.org/wp-content/uploads/2023/03/Aprendamos-Juntos-Miniatura-para-YouTube-1.jpg
END:VEVENT
BEGIN:VEVENT
DTSTART;TZID=America/Argentina/Buenos_Aires:20230603T163000
DTEND;TZID=America/Argentina/Buenos_Aires:20230603T183000
DTSTAMP:20260422T190510
CREATED:20230423T000934Z
LAST-MODIFIED:20230508T194122Z
UID:5256-1685809800-1685817000@impulsodeunanuevavida.org
SUMMARY:CONFERENCIA PRESENCIAL EN LA PLATA
DESCRIPTION:Conferencia Verdades Develadas desde la Conciencia con entrada \nLIBRE y GRATUITA. \nSABADO 03/06 – 16:30 HS \nLA PLATA\, BUENOS AIRES \nEN PEÑA DE LAS BELLAS ARTES – Calle 49 879 \nLa conferencia no tiene un tema preestablecido\, sino que es un espacio abierto para que el público le realice preguntas a Daniel. De esta forma se van creando diferentes temáticas. \nEl mensaje de Daniel no sigue ningún lineamiento religioso ni ideológico.  Está en relación a una espiritualidad práctica aplicable a la vida cotidiana\,  enfocado en el crecimiento individual que nos lleva a vivir una vida más consciente. Teniendo como pilar fundamental el entender que se puede vivir mejor si ponemos amor en todo lo que hacemos. Mensaje hoy mas que nunca necesario\, en tiempos en donde nos surge el impulso de buscar respuestas dentro de este medio hostil en el que vivimos. \nA lo largo de todos estos años Daniel ha desarrollado en sus conferencias temas como las crisis que llevan adelante la humanidad\, como lograr la paz interna a pesar de la hostilidad que se vive a diario\, como calmar la mente \, el perdón\, la conciencia\, la muerte\, los egos\, las virtudes\, entre otros. \nPara mas información escribinos a contacto@impulsodeunanuevavida.org
URL:https://impulsodeunanuevavida.org/event/conferencia-presencial-en-la-plata/
ATTACH;FMTTYPE=image/jpeg:https://impulsodeunanuevavida.org/wp-content/uploads/2023/04/3.jpg
END:VEVENT
BEGIN:VEVENT
DTSTART;TZID=America/Argentina/Buenos_Aires:20230613T170000
DTEND;TZID=America/Argentina/Buenos_Aires:20230613T170000
DTSTAMP:20260422T190510
CREATED:20221225T182227Z
LAST-MODIFIED:20230611T163551Z
UID:4984-1686675600-1686675600@impulsodeunanuevavida.org
SUMMARY:EN VIVO con Marce Olivero Rojas desde COLOMBIA
DESCRIPTION:Daniel en diálogo con Marce Rivero Rojas \nHablaremos de: ¨Reencanacion y vidas pasada. El Akash¨ \nFECHA: MARTES 13/06 -20HS (ARG) 18Ha (COL) \nA TRAVÉS DE:  INSTAGRAM @marce_terapiasenergeticas
URL:https://impulsodeunanuevavida.org/event/en-vivo-con-marce-olivero-rojas-desde-colombia/
END:VEVENT
BEGIN:VEVENT
DTSTART;TZID=America/Argentina/Buenos_Aires:20230616T163000
DTEND;TZID=America/Argentina/Buenos_Aires:20230616T180000
DTSTAMP:20260422T190510
CREATED:20230612T005310Z
LAST-MODIFIED:20230612T005402Z
UID:5435-1686933000-1686938400@impulsodeunanuevavida.org
SUMMARY:ENTREVISTA EN RADIO DIVERGENTE
DESCRIPTION:Daniel visita el programa Vientos Crystal con la conducción de Aimé. \nRadio Divergente de Capilla del Monte\, Cordoba. \nVIERNES 16/06 – 16:40 HS \nse podrá escuchar por http://radiodivergentes.com.ar/
URL:https://impulsodeunanuevavida.org/event/entrevista-en-radio-divergente/
ATTACH;FMTTYPE=image/jpeg:https://impulsodeunanuevavida.org/wp-content/uploads/2023/06/2.jpg
END:VEVENT
BEGIN:VEVENT
DTSTART;TZID=America/Argentina/Buenos_Aires:20230616T183000
DTEND;TZID=America/Argentina/Buenos_Aires:20230616T200000
DTSTAMP:20260422T190510
CREATED:20230612T005704Z
LAST-MODIFIED:20230612T132809Z
UID:5439-1686940200-1686945600@impulsodeunanuevavida.org
SUMMARY:ENTREVISTA EN RADIO ASTRAL
DESCRIPTION:Daniel visita el programa ¨Cielos Porfundos¨ con la conducción de Fernando Diz. Radio Astral FM93.7 de Capilla del Monte\, Córdoba. \nVIERNES 16/06 – 18:30 HS \nPodrás escucharlo por https://www.fmastral.com.ar/ \n 
URL:https://impulsodeunanuevavida.org/event/entrevista-en-radio-astral/
ATTACH;FMTTYPE=image/jpeg:https://impulsodeunanuevavida.org/wp-content/uploads/2023/06/3.jpg
END:VEVENT
END:VCALENDAR