BEGIN:VCALENDAR
VERSION:2.0
PRODID:-//Impulso de una Nueva Vida  - ECPv6.15.16//NONSGML v1.0//EN
CALSCALE:GREGORIAN
METHOD:PUBLISH
X-WR-CALNAME:Impulso de una Nueva Vida 
X-ORIGINAL-URL:https://impulsodeunanuevavida.org
X-WR-CALDESC:Eventos para Impulso de una Nueva Vida 
REFRESH-INTERVAL;VALUE=DURATION:PT1H
X-Robots-Tag:noindex
X-PUBLISHED-TTL:PT1H
BEGIN:VTIMEZONE
TZID:America/Argentina/Buenos_Aires
BEGIN:STANDARD
TZOFFSETFROM:-0300
TZOFFSETTO:-0300
TZNAME:-03
DTSTART:20220101T000000
END:STANDARD
END:VTIMEZONE
BEGIN:VEVENT
DTSTART;TZID=America/Argentina/Buenos_Aires:20230408T190000
DTEND;TZID=America/Argentina/Buenos_Aires:20230408T190000
DTSTAMP:20260421T175928
CREATED:20230330T160602Z
LAST-MODIFIED:20230406T003924Z
UID:5207-1680980400-1680980400@impulsodeunanuevavida.org
SUMMARY:ENTREVISTA EN RADIO LA PORTEÑA
DESCRIPTION:En diálogo con  Ciro Roman en el programa ¨Un toque al Corazón¨ a través de www.laporteñaradio.com.ar 
URL:https://impulsodeunanuevavida.org/event/la-portena-radio/
ATTACH;FMTTYPE=image/jpeg:https://impulsodeunanuevavida.org/wp-content/uploads/2023/03/Portadas-vivos-youtube-2023-10.jpg
END:VEVENT
BEGIN:VEVENT
DTSTART;TZID=America/Argentina/Buenos_Aires:20230411T200000
DTEND;TZID=America/Argentina/Buenos_Aires:20230411T210000
DTSTAMP:20260421T175928
CREATED:20230330T131843Z
LAST-MODIFIED:20230406T004158Z
UID:5194-1681243200-1681246800@impulsodeunanuevavida.org
SUMMARY:INSTAGRAM LIVE  Rita Alvarez Pico
DESCRIPTION:Daniel conversa en vivo con Rita Alvarez Pico \nDia: 10/04/23 – 19 hs \nA través de : @sanarelalmaradio
URL:https://impulsodeunanuevavida.org/event/en-vivo-rita-alvarez-pico/
END:VEVENT
BEGIN:VEVENT
DTSTART;TZID=America/Argentina/Buenos_Aires:20230416T170000
DTEND;TZID=America/Argentina/Buenos_Aires:20230416T190000
DTSTAMP:20260421T175928
CREATED:20230327T000153Z
LAST-MODIFIED:20230327T000153Z
UID:5160-1681664400-1681671600@impulsodeunanuevavida.org
SUMMARY:CONFERENCIA EN CABA
DESCRIPTION:Conferencia presencial Verdades Develadas desde la Conciencia \, en la Ciudad de Buenos Aires. \nDOMINGO 16/04 – 17 HS \nFUNDACION COLUMBIA – J.L.BORGES 2020 \nENTRADA LIBRE Y GRATUITA
URL:https://impulsodeunanuevavida.org/event/conferencia-en-caba/
ATTACH;FMTTYPE=image/jpeg:https://impulsodeunanuevavida.org/wp-content/uploads/2023/03/conferencias-presencial-Miniatura-para-YouTube.jpg
END:VEVENT
BEGIN:VEVENT
DTSTART;TZID=America/Argentina/Buenos_Aires:20230420T220000
DTEND;TZID=America/Argentina/Buenos_Aires:20230420T220000
DTSTAMP:20260421T175928
CREATED:20230330T134140Z
LAST-MODIFIED:20230401T222701Z
UID:5196-1682028000-1682028000@impulsodeunanuevavida.org
SUMMARY:INSTAGRAM LIVE desde Colombia con Zully Roman 
DESCRIPTION:Daniel conversa en vivo con Zully Roman  desde Colombia \nDia: 20/04/23 – 22 hs hs (arg) – 8 pm (col) \nA través de : @zulyroman.s
URL:https://impulsodeunanuevavida.org/event/en-vivo-con-zully-roman-desde-colombia/
END:VEVENT
BEGIN:VEVENT
DTSTART;TZID=America/Argentina/Buenos_Aires:20230428T103000
DTEND;TZID=America/Argentina/Buenos_Aires:20230428T110000
DTSTAMP:20260421T175928
CREATED:20230308T203249Z
LAST-MODIFIED:20230401T221929Z
UID:5084-1682677800-1682679600@impulsodeunanuevavida.org
SUMMARY:MANTRA FM 91.9 MHz. en diálogo con Marisa Ventura
DESCRIPTION:Daniel en dialogo con Marisa Ventura  sobre cómo evolucionar espiritualmente \nVIERNES 28/04- 10:30 HS (ARG) \nLo podes ver en https://mantrafm.com.ar/ \n 
URL:https://impulsodeunanuevavida.org/event/entrevista-en-radio-simphony-91-3-fm/
ATTACH;FMTTYPE=image/jpeg:https://impulsodeunanuevavida.org/wp-content/uploads/2023/03/20.jpg
END:VEVENT
END:VCALENDAR