BEGIN:VCALENDAR
VERSION:2.0
PRODID:-//Impulso de una Nueva Vida  - ECPv6.15.16//NONSGML v1.0//EN
CALSCALE:GREGORIAN
METHOD:PUBLISH
X-ORIGINAL-URL:https://impulsodeunanuevavida.org
X-WR-CALDESC:Eventos para Impulso de una Nueva Vida 
REFRESH-INTERVAL;VALUE=DURATION:PT1H
X-Robots-Tag:noindex
X-PUBLISHED-TTL:PT1H
BEGIN:VTIMEZONE
TZID:America/Argentina/Buenos_Aires
BEGIN:STANDARD
TZOFFSETFROM:-0300
TZOFFSETTO:-0300
TZNAME:-03
DTSTART:20220101T000000
END:STANDARD
END:VTIMEZONE
BEGIN:VEVENT
DTSTART;TZID=America/Argentina/Buenos_Aires:20230710T200000
DTEND;TZID=America/Argentina/Buenos_Aires:20230710T210000
DTSTAMP:20260421T134126
CREATED:20230622T230933Z
LAST-MODIFIED:20230710T004901Z
UID:5451-1689019200-1689022800@impulsodeunanuevavida.org
SUMMARY:INSTAGRAM LIVE desde NY - USA
DESCRIPTION:Un encuentro entre Milena Sambrano y Daniel a través de Instagram Live @openmindedyou \nJUEVES 10/07  20 HS (ARG) – 19 HS (NY\, USA)
URL:https://impulsodeunanuevavida.org/event/instagram-live-desde-ny-usa/
ATTACH;FMTTYPE=image/jpeg:https://impulsodeunanuevavida.org/wp-content/uploads/2023/06/6-1.jpg
END:VEVENT
BEGIN:VEVENT
DTSTART;TZID=America/Argentina/Buenos_Aires:20230727T220000
DTEND;TZID=America/Argentina/Buenos_Aires:20230727T220000
DTSTAMP:20260421T134126
CREATED:20230130T040622Z
LAST-MODIFIED:20230703T001019Z
UID:5030-1690495200-1690495200@impulsodeunanuevavida.org
SUMMARY:ANA MARIA HOYOS DESDE COLOMBIA
DESCRIPTION:Daniel conversa en vivo con Ana María Hoyos desde Colombia \nDia: 27/07/23 – 10 PM hs (arg) – 8 pm (col) \nA través de : @anmahoyos
URL:https://impulsodeunanuevavida.org/event/instagram-live-desde-colombia/
ATTACH;FMTTYPE=image/jpeg:https://impulsodeunanuevavida.org/wp-content/uploads/2023/01/ana-Ma-Hoyos.jpg
END:VEVENT
END:VCALENDAR