BEGIN:VCALENDAR
VERSION:2.0
PRODID:-//Impulso de una Nueva Vida  - ECPv6.15.16//NONSGML v1.0//EN
CALSCALE:GREGORIAN
METHOD:PUBLISH
X-ORIGINAL-URL:https://impulsodeunanuevavida.org
X-WR-CALDESC:Eventos para Impulso de una Nueva Vida 
REFRESH-INTERVAL;VALUE=DURATION:PT1H
X-Robots-Tag:noindex
X-PUBLISHED-TTL:PT1H
BEGIN:VTIMEZONE
TZID:America/Argentina/Buenos_Aires
BEGIN:STANDARD
TZOFFSETFROM:-0300
TZOFFSETTO:-0300
TZNAME:-03
DTSTART:20220101T000000
END:STANDARD
END:VTIMEZONE
BEGIN:VEVENT
DTSTART;TZID=America/Argentina/Buenos_Aires:20230810T210000
DTEND;TZID=America/Argentina/Buenos_Aires:20230810T210000
DTSTAMP:20260421T121252
CREATED:20230518T150226Z
LAST-MODIFIED:20230802T195256Z
UID:5374-1691701200-1691701200@impulsodeunanuevavida.org
SUMMARY:INSTAGRAM LIVE desde COLOMBIA
DESCRIPTION:Un encuentro entre Carolina y Daniel a través de Instagram Live @carocoach75 \nJUEVES 10/08 21 HS (ARG) – 19 HS (COL)
URL:https://impulsodeunanuevavida.org/event/instagram-live-con-carolina-desde-colombia/
ATTACH;FMTTYPE=image/jpeg:https://impulsodeunanuevavida.org/wp-content/uploads/2023/08/VIVOS-IG-MAYO-2023-Miniatura-para-YouTube.jpg
END:VEVENT
BEGIN:VEVENT
DTSTART;TZID=America/Argentina/Buenos_Aires:20230816T193000
DTEND;TZID=America/Argentina/Buenos_Aires:20230816T210000
DTSTAMP:20260421T121252
CREATED:20230314T190340Z
LAST-MODIFIED:20230802T194247Z
UID:5134-1692214200-1692219600@impulsodeunanuevavida.org
SUMMARY:APRENDAMOS JUNTOS 2023
DESCRIPTION:Un nuevo ciclo de APRENDAMOS JUNTOS comienza. Con un nuevo formato y nuevo dia! \nTODOS LOS MIERCOLES A LAS 19:30 HS A TRAVES DE NUESTRO CANAL DE YOUTUBE IMPULSO DE UNA NUEVA VIDA Y NUESTRA FANPAGE DE FACEBOOK  \nCOMIENZO: 15/03 – 19:30 HS \nLOS ESPERAMOS !!!
URL:https://impulsodeunanuevavida.org/event/aprendamos-juntos-2023/
ATTACH;FMTTYPE=image/jpeg:https://impulsodeunanuevavida.org/wp-content/uploads/2023/03/Aprendamos-Juntos-Miniatura-para-YouTube-1.jpg
END:VEVENT
BEGIN:VEVENT
DTSTART;TZID=America/Argentina/Buenos_Aires:20230824T160000
DTEND;TZID=America/Argentina/Buenos_Aires:20230824T170000
DTSTAMP:20260421T121252
CREATED:20230330T135540Z
LAST-MODIFIED:20230812T205109Z
UID:5198-1692892800-1692896400@impulsodeunanuevavida.org
SUMMARY:INSTAGRAM LIVE desde España
DESCRIPTION:Daniel conversa en vivo con Eva de la Hidalga  desde España \nJUEVES 24/08/23 – 16:hs (Arg) – 21 hs (Esp) \nA través de : @blue_chrysalis_8
URL:https://impulsodeunanuevavida.org/event/en-vivo-con-eva-de-la-hidalga-desde-espana/
ATTACH;FMTTYPE=image/jpeg:https://impulsodeunanuevavida.org/wp-content/uploads/2023/03/25.jpg
END:VEVENT
END:VCALENDAR