BEGIN:VCALENDAR
VERSION:2.0
PRODID:-//Impulso de una Nueva Vida  - ECPv6.15.16//NONSGML v1.0//EN
CALSCALE:GREGORIAN
METHOD:PUBLISH
X-ORIGINAL-URL:https://impulsodeunanuevavida.org
X-WR-CALDESC:Eventos para Impulso de una Nueva Vida 
REFRESH-INTERVAL;VALUE=DURATION:PT1H
X-Robots-Tag:noindex
X-PUBLISHED-TTL:PT1H
BEGIN:VTIMEZONE
TZID:America/Argentina/Buenos_Aires
BEGIN:STANDARD
TZOFFSETFROM:-0300
TZOFFSETTO:-0300
TZNAME:-03
DTSTART:20220101T000000
END:STANDARD
END:VTIMEZONE
BEGIN:VEVENT
DTSTART;TZID=America/Argentina/Buenos_Aires:20230916T160000
DTEND;TZID=America/Argentina/Buenos_Aires:20230916T180000
DTSTAMP:20260421T103417
CREATED:20230420T230027Z
LAST-MODIFIED:20230903T224413Z
UID:5250-1694880000-1694887200@impulsodeunanuevavida.org
SUMMARY:CONFERENCIA PRESENCIAL MONTE GRANDE- BS AS
DESCRIPTION:NUEVO ENCUENTRO PRESENCIAL!! esta vez en \nMONTE GRANDE – BUENOS AIRES \nSABADO 16/09 – 16 HS \nCLUB ATLETICO MONTE GRANDE  \nHIPOLITO YRIGOYEN 77\, MONTE GRANDE – BS AS \nLa conferencia no tiene un tema preestablecido\, sino que es un espacio abierto para que el público le realice preguntas a Daniel. De esta forma se van creando diferentes temáticas. \nEl mensaje de Daniel no sigue ningún lineamiento religioso ni ideológico.  Está en relación a una espiritualidad práctica aplicable a la vida cotidiana\,  enfocado en el crecimiento individual que nos lleva a vivir una vida más consciente. Teniendo como pilar fundamental el entender que se puede vivir mejor si ponemos amor en todo lo que hacemos. Mensaje hoy mas que nunca necesario\, en tiempos en donde nos surge el impulso de buscar respuestas dentro de este medio hostil en el que vivimos. \nA lo largo de todos estos años Daniel ha desarrollado en sus conferencias temas como las crisis que llevan adelante la humanidad\, como lograr la paz interna a pesar de la hostilidad que se vive a diario\, como calmar la mente \, el perdón\, la conciencia\, la muerte\, los egos\, las virtudes\, entre otros. \nPara mas información escribinos a contacto@impulsodeunanuevavida.org
URL:https://impulsodeunanuevavida.org/event/conferencia-presencial-cordoba-capilla-del-monte/
ATTACH;FMTTYPE=image/jpeg:https://impulsodeunanuevavida.org/wp-content/uploads/2023/08/conferencias-presencial-Miniatura-para-YouTube-4.jpg
END:VEVENT
BEGIN:VEVENT
DTSTART;TZID=America/Argentina/Buenos_Aires:20230918T180000
DTEND;TZID=America/Argentina/Buenos_Aires:20230918T190000
DTSTAMP:20260421T103417
CREATED:20230903T223333Z
LAST-MODIFIED:20230903T223333Z
UID:5575-1695060000-1695063600@impulsodeunanuevavida.org
SUMMARY:ENTREVISTA EN RADIO DEMOS
DESCRIPTION:Daniel visita el programa CLARIDAD con Armida Moscoso\, por radio demos https://demos.com.ar/ \nLUNES 18/09N – 18 HS (ARG) \n 
URL:https://impulsodeunanuevavida.org/event/entrevista-en-radio-demos/
END:VEVENT
BEGIN:VEVENT
DTSTART;TZID=America/Argentina/Buenos_Aires:20230919T170000
DTEND;TZID=America/Argentina/Buenos_Aires:20230919T180000
DTSTAMP:20260421T103417
CREATED:20230903T223532Z
LAST-MODIFIED:20230903T223532Z
UID:5577-1695142800-1695146400@impulsodeunanuevavida.org
SUMMARY:ENTREVISTA EN RADIO LRZ
DESCRIPTION:Daniel visita el programa NATURALMENTE HABLANDO con Pila Insa por radio LRZ https://larz.com.ar/ \nMARTES 19/09 – 17 HS (ARG)
URL:https://impulsodeunanuevavida.org/event/entrevista-en-radio-lrz/
END:VEVENT
END:VCALENDAR